BEGIN:VCALENDAR
VERSION:2.0
PRODID:-//Volt Europa//Events//EN
CALSCALE:GREGORIAN
METHOD:PUBLISH
BEGIN:VEVENT
UID:volt-sverige-pa-almedalsveckan-2026-1782079200@voltsverige.org
DTSTAMP:20260421T105933Z
DTSTART;TZID=Europe/Stockholm:20260622T000000
DTEND;TZID=Europe/Stockholm:20260626T000000
SUMMARY:Volt Sverige på Almedalsveckan 2026
DESCRIPTION:Med endast månader kvar till valet är det dags för oss att v
 isa Sverige vad vi har att erbjuda! Kom och träffa oss i Almedalen och pra
 ta Europa med oss!
LOCATION:Visby\, Sverige
URL:https://voltsverige.org/evenemang/volt-sverige-pa-almedalsveckan-2026
END:VEVENT
END:VCALENDAR
